BEGIN:VCALENDAR
VERSION:2.0
PRODID:-//New England Marathi Mandal - ECPv6.15.20//NONSGML v1.0//EN
CALSCALE:GREGORIAN
METHOD:PUBLISH
X-ORIGINAL-URL:https://www.nemm.org
X-WR-CALDESC:Events for New England Marathi Mandal
REFRESH-INTERVAL;VALUE=DURATION:PT1H
X-Robots-Tag:noindex
X-PUBLISHED-TTL:PT1H
BEGIN:VTIMEZONE
TZID:UTC
BEGIN:STANDARD
TZOFFSETFROM:+0000
TZOFFSETTO:+0000
TZNAME:UTC
DTSTART:20250101T000000
END:STANDARD
END:VTIMEZONE
BEGIN:VEVENT
DTSTART;TZID=UTC:20260117T080000
DTEND;TZID=UTC:20260117T170000
DTSTAMP:20260425T214140
CREATED:20251121T011751Z
LAST-MODIFIED:20260120T044658Z
UID:2714-1768636800-1768669200@www.nemm.org
SUMMARY:Makar Sankranti
DESCRIPTION:राजा शिवछत्रपती – देवगिरी ते रायगड				\n				\n					\n		\n					\n		\n				\n						\n					\n			\n						\n				\n									\n					\n						\n									Booking Open\n					\n					\n				\n								\n				\n					\n		\n					\n		\n				\n						\n					\n			\n						\n				\n																														\n				\n					\n		\n					\n		\n				\n						\n					\n			\n						\n				\n					राजा शिवछत्रपती: देवगिरी ते रायगडइतिहास… अभिमान… आणि मराठी शौर्याचा महाउत्सव!				\n				\n					\n		\n					\n		\n				\n						\n					\n			\n						\n				\n									New England Marathi Mandal (NEMM) in collaboration with Swaraj Theaters proudly invites you to a grand celebration of Maharashtra Day. Join us for an immersive theatrical experience that traces the legendary journey of Chhatrapati Shivaji Maharaj. व्हा साक्षीदार… (Witness the Legend)Experience the goosebumps-inducing saga of Swarajya through powerful storytelling and live performances: मावळ्यांचा पराक्रम: The fierce bravery of the Maratha warriors. पावनखिंड: Bajiprabhu’s unparalleled sacrifice in the face of certain death. सिंहगड: Tanaji Malusare’s ultimate commitment to the fort of Kondhana. अफाट अफझलखान वध: The strategic brilliance and courage at Pratapgad. राज्याभिषेक: The breathtaking coronation of the People’s King on Raigad. Event DetailsDate: Saturday\, May 2\, 2026 Time: 2:30 PM Venue: Wellesley High School\, 50 Rice St\, Wellesley\, MA 02481 Script by: Sujit Sathe (Based on research by Babasaheb Purandare\, Jaysingrao Pawar\, and Gajanan Mehandale) About the PerformanceThis is not just a play; it is a Maha Shivnatya. Expect a vivid\, live-action portrayal of history that combines rigorous historical research with a soul-stirring narrative. From the heights of Devgiri to the crowning glory of Raigad\, witness the incredible journey of the visionary who built a kingdom for the people. Don’t Miss This Historic Celebration! 
URL:https://www.nemm.org/event/makar-sankranti/
CATEGORIES:Past Events
END:VEVENT
END:VCALENDAR