BEGIN:VCALENDAR
VERSION:2.0
PRODID:-//New England Marathi Mandal - ECPv6.15.20//NONSGML v1.0//EN
CALSCALE:GREGORIAN
METHOD:PUBLISH
X-WR-CALNAME:New England Marathi Mandal
X-ORIGINAL-URL:https://www.nemm.org
X-WR-CALDESC:Events for New England Marathi Mandal
REFRESH-INTERVAL;VALUE=DURATION:PT1H
X-Robots-Tag:noindex
X-PUBLISHED-TTL:PT1H
BEGIN:VTIMEZONE
TZID:UTC
BEGIN:STANDARD
TZOFFSETFROM:+0000
TZOFFSETTO:+0000
TZNAME:UTC
DTSTART:20240101T000000
END:STANDARD
END:VTIMEZONE
BEGIN:VEVENT
DTSTART;TZID=UTC:20251003T190000
DTEND;TZID=UTC:20251003T220000
DTSTAMP:20260426T031338
CREATED:20250826T031723Z
LAST-MODIFIED:20251006T013809Z
UID:2676-1759518000-1759528800@www.nemm.org
SUMMARY:Shikayala Gelo Ek
DESCRIPTION:राजा शिवछत्रपती – देवगिरी ते रायगड				\n				\n					\n		\n					\n		\n				\n						\n					\n			\n						\n				\n									\n					\n						\n									Booking Open\n					\n					\n				\n								\n				\n					\n		\n					\n		\n				\n						\n					\n			\n						\n				\n																														\n				\n					\n		\n					\n		\n				\n						\n					\n			\n						\n				\n					राजा शिवछत्रपती: देवगिरी ते रायगडइतिहास… अभिमान… आणि मराठी शौर्याचा महाउत्सव!				\n				\n					\n		\n					\n		\n				\n						\n					\n			\n						\n				\n									New England Marathi Mandal (NEMM) in collaboration with Swaraj Theaters proudly invites you to a grand celebration of Maharashtra Day. Join us for an immersive theatrical experience that traces the legendary journey of Chhatrapati Shivaji Maharaj. व्हा साक्षीदार… (Witness the Legend)Experience the goosebumps-inducing saga of Swarajya through powerful storytelling and live performances: मावळ्यांचा पराक्रम: The fierce bravery of the Maratha warriors. पावनखिंड: Bajiprabhu’s unparalleled sacrifice in the face of certain death. सिंहगड: Tanaji Malusare’s ultimate commitment to the fort of Kondhana. अफाट अफझलखान वध: The strategic brilliance and courage at Pratapgad. राज्याभिषेक: The breathtaking coronation of the People’s King on Raigad. Event DetailsDate: Saturday\, May 2\, 2026 Time: 2:30 PM Venue: Wellesley High School\, 50 Rice St\, Wellesley\, MA 02481 Script by: Sujit Sathe (Based on research by Babasaheb Purandare\, Jaysingrao Pawar\, and Gajanan Mehandale) About the PerformanceThis is not just a play; it is a Maha Shivnatya. Expect a vivid\, live-action portrayal of history that combines rigorous historical research with a soul-stirring narrative. From the heights of Devgiri to the crowning glory of Raigad\, witness the incredible journey of the visionary who built a kingdom for the people. Don’t Miss This Historic Celebration! 
URL:https://www.nemm.org/event/shikayala-gelo-ek/
CATEGORIES:Past Events
END:VEVENT
BEGIN:VEVENT
DTSTART;TZID=UTC:20251006T080000
DTEND;TZID=UTC:20251006T170000
DTSTAMP:20260426T031338
CREATED:20251006T013258Z
LAST-MODIFIED:20251121T012159Z
UID:2693-1759737600-1759770000@www.nemm.org
SUMMARY:NEMM Diwali 2025
DESCRIPTION:राजा शिवछत्रपती – देवगिरी ते रायगड				\n				\n					\n		\n					\n		\n				\n						\n					\n			\n						\n				\n									\n					\n						\n									Booking Open\n					\n					\n				\n								\n				\n					\n		\n					\n		\n				\n						\n					\n			\n						\n				\n																														\n				\n					\n		\n					\n		\n				\n						\n					\n			\n						\n				\n					राजा शिवछत्रपती: देवगिरी ते रायगडइतिहास… अभिमान… आणि मराठी शौर्याचा महाउत्सव!				\n				\n					\n		\n					\n		\n				\n						\n					\n			\n						\n				\n									New England Marathi Mandal (NEMM) in collaboration with Swaraj Theaters proudly invites you to a grand celebration of Maharashtra Day. Join us for an immersive theatrical experience that traces the legendary journey of Chhatrapati Shivaji Maharaj. व्हा साक्षीदार… (Witness the Legend)Experience the goosebumps-inducing saga of Swarajya through powerful storytelling and live performances: मावळ्यांचा पराक्रम: The fierce bravery of the Maratha warriors. पावनखिंड: Bajiprabhu’s unparalleled sacrifice in the face of certain death. सिंहगड: Tanaji Malusare’s ultimate commitment to the fort of Kondhana. अफाट अफझलखान वध: The strategic brilliance and courage at Pratapgad. राज्याभिषेक: The breathtaking coronation of the People’s King on Raigad. Event DetailsDate: Saturday\, May 2\, 2026 Time: 2:30 PM Venue: Wellesley High School\, 50 Rice St\, Wellesley\, MA 02481 Script by: Sujit Sathe (Based on research by Babasaheb Purandare\, Jaysingrao Pawar\, and Gajanan Mehandale) About the PerformanceThis is not just a play; it is a Maha Shivnatya. Expect a vivid\, live-action portrayal of history that combines rigorous historical research with a soul-stirring narrative. From the heights of Devgiri to the crowning glory of Raigad\, witness the incredible journey of the visionary who built a kingdom for the people. Don’t Miss This Historic Celebration! 
URL:https://www.nemm.org/event/nemm-diwali-2025/
CATEGORIES:Past Events
END:VEVENT
END:VCALENDAR