BEGIN:VCALENDAR
VERSION:2.0
PRODID:-//New England Marathi Mandal - ECPv6.15.20//NONSGML v1.0//EN
CALSCALE:GREGORIAN
METHOD:PUBLISH
X-WR-CALNAME:New England Marathi Mandal
X-ORIGINAL-URL:https://www.nemm.org
X-WR-CALDESC:Events for New England Marathi Mandal
REFRESH-INTERVAL;VALUE=DURATION:PT1H
X-Robots-Tag:noindex
X-PUBLISHED-TTL:PT1H
BEGIN:VTIMEZONE
TZID:UTC
BEGIN:STANDARD
TZOFFSETFROM:+0000
TZOFFSETTO:+0000
TZNAME:UTC
DTSTART:20200101T000000
END:STANDARD
END:VTIMEZONE
BEGIN:VEVENT
DTSTART;VALUE=DATE:20230506
DTEND;VALUE=DATE:20230507
DTSTAMP:20260426T042902
CREATED:20240114T063749Z
LAST-MODIFIED:20240114T063749Z
UID:1795-1683331200-1683417599@www.nemm.org
SUMMARY:Dazzling Maharashtra
DESCRIPTION:
URL:https://www.nemm.org/event/dazzling-maharashtra/
CATEGORIES:Past Events
ATTACH;FMTTYPE=image/jpeg:https://www.nemm.org/wp-content/uploads/2024/01/Dazzling-Maharashtra.jpg
END:VEVENT
BEGIN:VEVENT
DTSTART;VALUE=DATE:20230501
DTEND;VALUE=DATE:20230502
DTSTAMP:20260426T042902
CREATED:20240114T054451Z
LAST-MODIFIED:20240114T054533Z
UID:1775-1682899200-1682985599@www.nemm.org
SUMMARY:NEMM Maharashtra Day
DESCRIPTION:नमस्कार मंडळी\, \nसंक्रांत\, गुढी पाडवा\, आणि होळी यापाठोपाठ येणारा उत्सव म्हणजे महाराष्ट्र दिन. १ मे १९६० साली स्थापन झालेले आपले हे महाराष्ट्र राज्य अत्यंत छोट्या कालावधीत भारतातील सर्वात प्रगतिशील राज्य बनले. किंबहुना अमेरिका जगाचे मेल्टिंग पॉट आहे\, तर महाराष्ट्र भारताचे मेल्टिंग पॉट आहे. या राज्याने भारतातील सर्व धर्म\, जात\, पंथाच्या लोकांना आपलेसे केले. आज महाराष्ट्र खऱ्या अर्थाने भारत देशातील सांस्कृतिक\, सामाजिक\, आणि आर्थिक दृष्ट्या प्रगतिशील राज्य आहे. \nअशा या सर्वसम्पन्न राज्याचा या वर्षात येणारा वाढदिवस साजरा करताना एक प्रकारची द्विधा मनस्थिती आपणा सर्वांमध्ये असणार आहे हे निश्चित. फक्त महाराष्ट्रच नव्हे तर पूर्ण भारत देश एका कठीण कालावधीतून जात आहे. आज भारत देशातील जनता सर्व जगाकडे मदतीची याचना करत आहे. एकीकडे महाराष्ट्राचा सांस्कृतिक वारसा जपायचा\, त्याचबरोबर त्या मातीचे ऋण फेडायचा विडा NEMM ने उचलला आहे. \nNEMM एक आगळावेगळा कार्यक्रम आपल्या भेटीला घेऊन येत आहे. आपल्या सर्वांचा लाडका सचिन पिळगावकर आपल्या भेटीला येणार आहे – सचिनमय: प्रवास एका सुवर्ण कारकिर्दीचा! त्याचबरोबर\, NEMM सेवा इंटरनॅशनल च्या बरोबरीने एक मदतीचा हात पुढे करत आहे\, आपल्या भारतभूमी आणि तेथील जनतेसाठी!
URL:https://www.nemm.org/event/nemm-maharashtra-day/
CATEGORIES:Past Events
ATTACH;FMTTYPE=image/jpeg:https://www.nemm.org/wp-content/uploads/2024/01/Maharashtra-Day.jpg
END:VEVENT
BEGIN:VEVENT
DTSTART;VALUE=DATE:20230325
DTEND;VALUE=DATE:20230326
DTSTAMP:20260426T042902
CREATED:20240114T054832Z
LAST-MODIFIED:20240114T054956Z
UID:1783-1679702400-1679788799@www.nemm.org
SUMMARY:NEMM GUDI PADWA 2023
DESCRIPTION:या कार्यक्रमाचे मुख्य आकर्षण असेल आपल्या स्थानिक कलाकारांनी सादर केलेले एक कौटुंबिक विनोदी नाटक “वाजे पाऊल आपुले”! \nही कथा आहे एका हायपोकॉन्ड्रियाक\, प्रोफेसर भुस्कुटे यांची\, ज्याला असा विश्वास आहे की त्याला एक मोठा आजार आहे. त्याचा संपूर्ण आधार गैरसमजावर आधारित आहे ज्यामुळे अनेक आनंददायक परिस्थिती निर्माण होतात. ही एक हलकीफुलकी कौटुंबिक कॉमेडी आहे आणि सर्व वयोगटातील प्रेक्षकांना याचा आनंद घेता येईल. \nया नाटकाव्यतिरिक्त खालील कार्यक्रम आयोजित केले आहेत. \n3-D Printing Demonstration:\nIndian Institute of Technology\, Association of Greater New England हि संस्था सर्वांसाठी ३-D Printing तंत्रज्ञानावर आधारित प्रात्यक्षिक आयोजित करणार आहेत. तरी जास्तीत जास्त लोकांनी या संधीचा लाभ घ्यावा हि विनंती. \nReal Estate Investment Info Session:\nआर्थिक गुंतवणूक या विषयामध्ये रुची असलेल्या सर्वांसाठी एक सुवर्णसंधी! आपले स्थानिक Real Estate Investment क्षेत्रातील विशेषज्ञ श्री संतोष साळवी आपल्या सर्वांसाठी Real Estate गुंतवणूकीच्या संदर्भात मार्गदर्शन करतील.
URL:https://www.nemm.org/event/nemm-gudi-padwa-2023/
CATEGORIES:Past Events
ATTACH;FMTTYPE=image/jpeg:https://www.nemm.org/wp-content/uploads/2024/01/GUDI-PADWA-2023.jpg
END:VEVENT
BEGIN:VEVENT
DTSTART;VALUE=DATE:20220910
DTEND;VALUE=DATE:20220911
DTSTAMP:20260426T042902
CREATED:20240114T072000Z
LAST-MODIFIED:20240114T072000Z
UID:1848-1662768000-1662854399@www.nemm.org
SUMMARY:ढोल लेझीम पथक व श्रींची मिरवणूक - NEMM Ganeshotav 2022!!
DESCRIPTION:
URL:https://www.nemm.org/event/%e0%a4%a2%e0%a5%8b%e0%a4%b2-%e0%a4%b2%e0%a5%87%e0%a4%9d%e0%a5%80%e0%a4%ae-%e0%a4%aa%e0%a4%a5%e0%a4%95-%e0%a4%b5-%e0%a4%b6%e0%a5%8d%e0%a4%b0%e0%a5%80%e0%a4%82%e0%a4%9a%e0%a5%80-%e0%a4%ae%e0%a4%bf/
CATEGORIES:Past Events
ATTACH;FMTTYPE=image/jpeg:https://www.nemm.org/wp-content/uploads/2024/01/ढोल-लेझीम-पथक-व-श्रींची-मिरवणूक-NEMM-Ganeshotav-2022.jpg
END:VEVENT
BEGIN:VEVENT
DTSTART;VALUE=DATE:20220910
DTEND;VALUE=DATE:20220911
DTSTAMP:20260426T042902
CREATED:20240114T071652Z
LAST-MODIFIED:20240114T071652Z
UID:1845-1662768000-1662854399@www.nemm.org
SUMMARY:मराठी ऑर्केस्ट्रा - NEMM Ganeshotsav 2022
DESCRIPTION:
URL:https://www.nemm.org/event/%e0%a4%ae%e0%a4%b0%e0%a4%be%e0%a4%a0%e0%a5%80-%e0%a4%91%e0%a4%b0%e0%a5%8d%e0%a4%95%e0%a5%87%e0%a4%b8%e0%a5%8d%e0%a4%9f%e0%a5%8d%e0%a4%b0%e0%a4%be-nemm-ganeshotsav-2022/
CATEGORIES:Past Events
ATTACH;FMTTYPE=image/jpeg:https://www.nemm.org/wp-content/uploads/2024/01/मराठी-ऑर्केस्ट्रा-NEMM-Ganeshotsav-2022.jpg
END:VEVENT
BEGIN:VEVENT
DTSTART;VALUE=DATE:20220910
DTEND;VALUE=DATE:20220911
DTSTAMP:20260426T042902
CREATED:20240114T063316Z
LAST-MODIFIED:20240114T065355Z
UID:1789-1662768000-1662854399@www.nemm.org
SUMMARY:NEMM Gruha Samradnyi 2022!!!
DESCRIPTION:We must all agree that the power in the house belongs to the woman in the house! She is the ” गृहसम्राज्ञी Gruhsamradnyi (Home Empress)”! To entertain this home empress and her family we are bringing a competition “ NEMM गृहसम्राज्ञी (NEMM Home Empress)” where the bumper price will be the the most coveted\, top of the line ”Paithani” saree for the grand winner and exciting 2nd and 3rd prize along with many more gifts for initial round winners. \nIn this competition we are organizing different games for these home empresses. The games will involve all members of the family. Our team will come to the participant homes with video camera and organize the games. \nThe competition will be held in the months of June\, July and August and the final round will be held on the day of “NEMM Ganeshotsav” on September 10th. \n\n\n\n				\n			\n\n\n\n				\n			\n\n\n\n				\n			\n\n \n\n\n				\n			\n\n\n\n				\n			\n\n\n\n				\n			\n\n \n\n\n				\n			\n\n\n\n				\n			\n\n\n\n				\n			\n\n \n\n\n				\n			\n\n\n\n				\n			\n\n\n\n				\n			\n\n \n\n\n				\n			\n\n			\n		https://youtu.be/nuh3uGlFe38https://youtu.be/ZmE3uylMdrk
URL:https://www.nemm.org/event/nemm-gruha-samradnyi-2022/
CATEGORIES:Past Events
ATTACH;FMTTYPE=image/jpeg:https://www.nemm.org/wp-content/uploads/2024/01/NEMM-Gruha-Samradnyi-2022.jpg
END:VEVENT
BEGIN:VEVENT
DTSTART;TZID=UTC:20220205T133000
DTEND;TZID=UTC:20220205T180000
DTSTAMP:20260426T042902
CREATED:20240114T071452Z
LAST-MODIFIED:20240114T071452Z
UID:1842-1644067800-1644084000@www.nemm.org
SUMMARY:NEMM Makar Sankrant 2022
DESCRIPTION:
URL:https://www.nemm.org/event/nemm-makar-sankrant-2022/
CATEGORIES:Past Events
ATTACH;FMTTYPE=image/jpeg:https://www.nemm.org/wp-content/uploads/2024/01/NEMM-Makar-Sankrant-2022.jpg
END:VEVENT
BEGIN:VEVENT
DTSTART;VALUE=DATE:20210908
DTEND;VALUE=DATE:20211011
DTSTAMP:20260426T042902
CREATED:20240114T065915Z
LAST-MODIFIED:20240114T070855Z
UID:1818-1631059200-1633910399@www.nemm.org
SUMMARY:NEMM Ganesh Utsav 2021
DESCRIPTION:Find Us More\n\n		\n																										 \nMiravnuk Pictures\n			\n    Find Us More\n\n																										 \nAttendee Pictures\n			\n    Find Us More
URL:https://www.nemm.org/event/nemm-ganesh-utsav-2021/
CATEGORIES:Past Events
ATTACH;FMTTYPE=image/jpeg:https://www.nemm.org/wp-content/uploads/2024/01/Ganesh-Utsav-2021.jpg
END:VEVENT
END:VCALENDAR