BEGIN:VCALENDAR
VERSION:2.0
PRODID:-//New England Marathi Mandal - ECPv6.15.20//NONSGML v1.0//EN
CALSCALE:GREGORIAN
METHOD:PUBLISH
X-ORIGINAL-URL:https://www.nemm.org
X-WR-CALDESC:Events for New England Marathi Mandal
REFRESH-INTERVAL;VALUE=DURATION:PT1H
X-Robots-Tag:noindex
X-PUBLISHED-TTL:PT1H
BEGIN:VTIMEZONE
TZID:UTC
BEGIN:STANDARD
TZOFFSETFROM:+0000
TZOFFSETTO:+0000
TZNAME:UTC
DTSTART:20250101T000000
END:STANDARD
END:VTIMEZONE
BEGIN:VEVENT
DTSTART;VALUE=DATE:20260228
DTEND;VALUE=DATE:20260302
DTSTAMP:20260425T175520
CREATED:20260114T061646Z
LAST-MODIFIED:20260303T060921Z
UID:2884-1772236800-1772409599@www.nemm.org
SUMMARY:2026 Badminton League
DESCRIPTION:NEMM Cricket Tournament 2026				\n				\n				\n						\n					\n			\n						\n				\n									\n					\n						\n									Individual Registration\n					\n					\n				\n								\n				\n					\n		\n				\n			\n						\n				\n									\n					\n						\n									Team Registration\n					\n					\n				\n								\n				\n					\n		\n					\n		\n				\n				\n																														\n				\n					\n		\n					\n		\n				\n						\n					\n			\n						\n				\n									NEMM Cricket Tournament 2026New England Marathi Mandal proudly presents the NEMM Cricket Tournament 2026\, an exciting indoor cricket tournament for Men and Women. Join us for a thrilling weekend of competitive matches\, team spirit\, and community bonding. Whether you are an experienced player or a passionate cricket fan\, this tournament promises high energy\, great sportsmanship\, and unforgettable moments. VenueTyngsboro Sports Center500 Potash Hill RdTyngsborough\, MA 01879 Event DatesMen’s Cricket TournamentApril 11 & April 12\, 2026 Women’s Cricket TournamentApril 12\, 2026 Men’s Cricket TournamentDate & Time April 11\, 2026 — 1:00 PM to 8:00 PMApril 12\, 2026 — 4:00 PM to 8:00 PM Tournament Format8 Teams\, 10 players per team 8-over indoor matches Played with taped tennis ball Teams will be divided into 2 groups Each group will play round-robin matches Followed by playoffs Minimum 4 matches per team Participants can register in two ways: Individual RegistrationPlayers registering individually will be assigned to NEMM-formed teams by the NEMM Sports Team (likely 2 NEMM teams). Team RegistrationTeams can register together with up to 10 players. Registration FeesIndividual Registration (Pay via Tugoz) $60 — NEMM Member $75 — Non-Member Team Registration (Pay via Zelle: SAMEER.PITKE@NEMM.ORG) $600 — All players are NEMM Members $650 — Team has 5–9 NEMM Members\, rest Non-Members $700 — Team has 0–5 NEMM Members\, rest/all Non-Members Individual Registration LinkTeam Registration LinkWomen’s Cricket TournamentDate & Time April 12\, 20262:30 PM – 5:30 PM Tournament Format8-over indoor matches Played with taped tennis ball Participants register individually Players will be assigned into NEMM-formed teams by the NEMM Sports Team Likely 3–4 teams Team size will be determined based on number of registrations Minimum 2 matches per team Registration FeesIndividual Registration (Pay via Tugoz) $25 — NEMM Member $35 — Non-Member Individual Registration LinkTournament HighlightsMen’s and Women’s categories Competitive yet friendly matches Well-maintained indoor sports facility Trophies and recognition for winners Guaranteed multiple matches for teams Rules & GuidelinesDetailed Rules and Regulations for the tournament will be published closer to the event. Stay ConnectedFor the latest updates\, announcements\, and tournament information\, follow New England Marathi Mandal (NEMM) on our social media channels. Join our WhatsApp Community  
URL:https://www.nemm.org/event/2026-badminton-league/
LOCATION:Boston Badminton\, 203 Ayer Road\, Harvard\, MA\, 01451\, United States
CATEGORIES:Past Events
END:VEVENT
BEGIN:VEVENT
DTSTART;TZID=UTC:20260320T180000
DTEND;TZID=UTC:20260320T210000
DTSTAMP:20260425T175520
CREATED:20260114T061912Z
LAST-MODIFIED:20260321T204813Z
UID:2891-1774029600-1774040400@www.nemm.org
SUMMARY:थेट तुमच्या घरातून
DESCRIPTION:NEMM Cricket Tournament 2026				\n				\n				\n						\n					\n			\n						\n				\n									\n					\n						\n									Individual Registration\n					\n					\n				\n								\n				\n					\n		\n				\n			\n						\n				\n									\n					\n						\n									Team Registration\n					\n					\n				\n								\n				\n					\n		\n					\n		\n				\n				\n																														\n				\n					\n		\n					\n		\n				\n						\n					\n			\n						\n				\n									NEMM Cricket Tournament 2026New England Marathi Mandal proudly presents the NEMM Cricket Tournament 2026\, an exciting indoor cricket tournament for Men and Women. Join us for a thrilling weekend of competitive matches\, team spirit\, and community bonding. Whether you are an experienced player or a passionate cricket fan\, this tournament promises high energy\, great sportsmanship\, and unforgettable moments. VenueTyngsboro Sports Center500 Potash Hill RdTyngsborough\, MA 01879 Event DatesMen’s Cricket TournamentApril 11 & April 12\, 2026 Women’s Cricket TournamentApril 12\, 2026 Men’s Cricket TournamentDate & Time April 11\, 2026 — 1:00 PM to 8:00 PMApril 12\, 2026 — 4:00 PM to 8:00 PM Tournament Format8 Teams\, 10 players per team 8-over indoor matches Played with taped tennis ball Teams will be divided into 2 groups Each group will play round-robin matches Followed by playoffs Minimum 4 matches per team Participants can register in two ways: Individual RegistrationPlayers registering individually will be assigned to NEMM-formed teams by the NEMM Sports Team (likely 2 NEMM teams). Team RegistrationTeams can register together with up to 10 players. Registration FeesIndividual Registration (Pay via Tugoz) $60 — NEMM Member $75 — Non-Member Team Registration (Pay via Zelle: SAMEER.PITKE@NEMM.ORG) $600 — All players are NEMM Members $650 — Team has 5–9 NEMM Members\, rest Non-Members $700 — Team has 0–5 NEMM Members\, rest/all Non-Members Individual Registration LinkTeam Registration LinkWomen’s Cricket TournamentDate & Time April 12\, 20262:30 PM – 5:30 PM Tournament Format8-over indoor matches Played with taped tennis ball Participants register individually Players will be assigned into NEMM-formed teams by the NEMM Sports Team Likely 3–4 teams Team size will be determined based on number of registrations Minimum 2 matches per team Registration FeesIndividual Registration (Pay via Tugoz) $25 — NEMM Member $35 — Non-Member Individual Registration LinkTournament HighlightsMen’s and Women’s categories Competitive yet friendly matches Well-maintained indoor sports facility Trophies and recognition for winners Guaranteed multiple matches for teams Rules & GuidelinesDetailed Rules and Regulations for the tournament will be published closer to the event. Stay ConnectedFor the latest updates\, announcements\, and tournament information\, follow New England Marathi Mandal (NEMM) on our social media channels. Join our WhatsApp Community  
URL:https://www.nemm.org/event/%e0%a4%a5%e0%a5%87%e0%a4%9f-%e0%a4%a4%e0%a5%81%e0%a4%ae%e0%a4%9a%e0%a5%8d%e0%a4%af%e0%a4%be-%e0%a4%98%e0%a4%b0%e0%a4%be%e0%a4%a4%e0%a5%82%e0%a4%a8/
LOCATION:MA
CATEGORIES:Past Events
END:VEVENT
END:VCALENDAR